BEGIN:VCALENDAR
VERSION:2.0
PRODID:-//RIGHTHERE//CALENDARIZE IT V3.2//EN
BEGIN:VTIMEZONE
TZID:Europe/Paris
X-MICROSOFT-CDO-TZID:3
BEGIN:STANDARD
DTSTART:20251026T010000
TZOFFSETFROM:+0200
TZOFFSETTO:+0100
TZNAME:CET
END:STANDARD
BEGIN:DAYLIGHT
DTSTART:20260329T010000
TZOFFSETFROM:+0100
TZOFFSETTO:+0200
TZNAME:CEST
END:DAYLIGHT
BEGIN:STANDARD
DTSTART:20261025T010000
TZOFFSETFROM:+0200
TZOFFSETTO:+0100
TZNAME:CET
END:STANDARD
END:VTIMEZONE
BEGIN:VEVENT
UID:4194-events@www.tujoues.fr
DTSTART;VALUE=DATE:20250517
DTEND;VALUE=DATE:20250517
DTSTAMP;TZID=Europe/Paris:20250401T005902
SUMMARY:Fête du jeu du Pilat<br><strong>15:00-18:00</strong>
DESCRIPTION:La 8ème édition de la Fête du jeu du Pilat se déroule cette
 année à St-Julien-Molin-Molette\, place Bancel\, de 15h à 18h. <a href=
 ^'https://www.tujoues.fr/fete-du-jeu-du-pilat/^' target=^'_blank^'>En savo
 ir +</a>\n
LOCATION:St-Julien-Molin-Molette
END:VEVENT
END:VCALENDAR